BEGIN:VCALENDAR
VERSION:2.0
PRODID:-//ChamberMaster//Event Calendar 2.0//EN
METHOD:PUBLISH
X-PUBLISHED-TTL:P3D
REFRESH-INTERVAL:P3D
CALSCALE:GREGORIAN
BEGIN:VEVENT
DTSTART:20140305T230000Z
DTEND:20140306T020000Z
X-MICROSOFT-CDO-ALLDAYEVENT:FALSE
SUMMARY:Wellness Screenings
DESCRIPTION:Dr. Cory Harkins of ProWellness Chiropractic will be conducting wellness screenings.
X-ALT-DESC;FMTTYPE=text/html:Dr. Cory Harkins of ProWellness Chiropractic will be conducting wellness screenings.
LOCATION:Chico's Hamilton Town Center
UID:e.1538.582
SEQUENCE:3
DTSTAMP:20260419T142242Z
URL:https://business.noblesvillechamber.com/events/details/wellness-screenings-582
END:VEVENT

END:VCALENDAR
