BEGIN:VCALENDAR
VERSION:2.0
PRODID:-//ChamberMaster//Event Calendar 2.0//EN
METHOD:PUBLISH
X-PUBLISHED-TTL:P3D
REFRESH-INTERVAL:P3D
CALSCALE:GREGORIAN
BEGIN:VEVENT
DTSTART:20101114T170000Z
DTEND:20101114T210000Z
X-MICROSOFT-CDO-ALLDAYEVENT:FALSE
SUMMARY:Whine and Cheese Event
DESCRIPTION:We will be doing a dog food tasting event and will have dog snacks and crackers.
X-ALT-DESC;FMTTYPE=text/html:We will be doing a dog food tasting event and will have dog snacks and crackers.
LOCATION:PET SUPPLIES "PLUS" 521 Noble Creek Drive Noblesville\, IN 46060
UID:e.1538.88
SEQUENCE:3
DTSTAMP:20260422T050844Z
URL:https://business.noblesvillechamber.com/events/details/whine-and-cheese-event-11-14-2010-88
END:VEVENT

END:VCALENDAR
