BEGIN:VCALENDAR
VERSION:2.0
PRODID:-//ChamberMaster//Event Calendar 2.0//EN
METHOD:PUBLISH
X-PUBLISHED-TTL:P3D
REFRESH-INTERVAL:P3D
CALSCALE:GREGORIAN
BEGIN:VEVENT
DTSTART:20130217T160000Z
DTEND:20130217T220000Z
X-MICROSOFT-CDO-ALLDAYEVENT:FALSE
SUMMARY:White River Ballet Mattress Sale Fund Raiser
DESCRIPTION:White River Ballet Company\n\n	Mattress Sale Fundraiser!!!\n\n	Sunday\, February 17\, 2013\n\n	11 am to 5 pm\n\n	The White River Ballet Company will be sponsoring our 2ndannual mattress sale on Sunday\, February 17th\, 2013.\n\n	Name brand (Restonic and Southerland) mattress sets will be sold at 30-60% below retail prices. These are all top quality mattresses with full factory warranties. All sizes and price ranges. Delivery is available. Floor models will be displayed at The Dancin Place (587 Westfield Rd) on Sunday\, February 17th from 10 am to 5 pm. There will be a professional staff there to answer questions and take orders. Everything will be ready for pick up or delivery within 1 to 2 weeks.\n\n	Proceeds go directly to White River Ballet Company!!!\n\n	$50 off purchase of a mattress set with this email.\n\n	PLEASE HELP SUPPORT OUR WHITE RIVER BALLET COMPANY BY PASSING\n\n	THIS EMAIL TO FAMILY AND FRIENDS!!!\n\n	Dancer Referral:___Kendall_________\n\n	For additional information\, please contact Dale DeWitte of Custom Fundraising Solutions: ddewittecfs@gmail.com
X-ALT-DESC;FMTTYPE=text/html:<p align="center" class="ecxMsoNormal" style="text-align: center">\n	<span style="font-size: 14pt"><font face="Times New Roman">White River Ballet Company</font></span></p>\n<p align="center" class="ecxMsoNormal" style="text-align: center">\n	<b><span style="font-size: 20pt"><font face="Times New Roman">Mattress Sale Fundraiser!!!</font></span></b></p>\n<p align="center" class="ecxMsoNormal" style="text-align: center">\n	<span style="font-size: 14pt"><font face="Times New Roman">Sunday\, February 17\, 2013</font></span></p>\n<p align="center" class="ecxMsoNormal" style="text-align: center">\n	<span style="font-size: 14pt"><font face="Times New Roman">11 am to 5 pm</font></span></p>\n<p class="ecxMsoNormal">\n	<font face="Times New Roman"><font size="3">The White River Ballet Company will be sponsoring our 2</font><font size="2"><sup>nd</sup></font><font size="3">annual mattress sale on Sunday\, February 17th\, 2013.</font></font></p>\n<p class="ecxMsoNormal">\n	<font size="3"><font face="Times New Roman">Name brand (Restonic and Southerland) mattress sets will be sold at 30-60% below retail prices. These are all top quality mattresses with full factory warranties. All sizes and price ranges. Delivery is available. Floor models will be displayed at The Dancin Place (587 Westfield Rd) on Sunday\, February 17th from 10 am to 5 pm. There will be a professional staff there to answer questions and take orders. Everything will be ready for pick up or delivery within 1 to 2 weeks.</font></font></p>\n<p align="center" class="ecxMsoNormal" style="text-align: center">\n	<b><font size="3"><font face="Times New Roman">Proceeds go directly to White River Ballet Company!!!</font></font></b></p>\n<p align="center" class="ecxMsoNormal" style="text-align: center">\n	<b><u><span style="font-size: 14pt"><font face="Times New Roman">$50 off purchase of a mattress set with this email.</font></span></u></b></p>\n<p class="ecxMsoNormal">\n	<b><span style="font-size: 14pt"><font face="Times New Roman">PLEASE HELP SUPPORT OUR WHITE RIVER BALLET COMPANY BY PASSING</font></span></b></p>\n<p align="center" class="ecxMsoNormal" style="text-align: center">\n	<b><span style="font-size: 14pt"><font face="Times New Roman">THIS EMAIL TO FAMILY AND FRIENDS!!!</font></span></b></p>\n<p align="center" class="ecxMsoNormal" style="text-align: center">\n	<b><span style="font-size: 14pt"><font face="Times New Roman">Dancer Referral<u>:___Kendall_________</u></font></span></b></p>\n<p align="center" class="ecxMsoNormal" style="text-align: center">\n	<font size="3"><font face="Times New Roman">For additional information\, please contact Dale DeWitte of Custom Fundraising Solutions: ddewittecfs@gmail.com</font></font></p>\n
LOCATION:587 Westfield Rd Noblesville IN (Behind Culvers)
UID:e.1538.389
SEQUENCE:3
DTSTAMP:20260420T102433Z
URL:https://business.noblesvillechamber.com/events/details/white-river-ballet-mattress-sale-fund-raiser-389
END:VEVENT

END:VCALENDAR
