BEGIN:VCALENDAR
VERSION:2.0
PRODID:-//ChamberMaster//Event Calendar 2.0//EN
METHOD:PUBLISH
X-PUBLISHED-TTL:P3D
REFRESH-INTERVAL:P3D
CALSCALE:GREGORIAN
BEGIN:VEVENT
DTSTART:20130424T143000Z
DTEND:20130424T180000Z
X-MICROSOFT-CDO-ALLDAYEVENT:FALSE
SUMMARY:Women of Vision Luncheon
DESCRIPTION:The Riverview Hospital Foundation invites you to join us for the 9th Annual Women of Vision Luncheon. \n\n\n\nThe luncheon builds camaraderie among talented and interesting women\, creates awareness of Riverview Hospital Foundation and our Women of Vision Giving Club. It also raises funds for women's services\, programs\, equipment for Riverview Hospital.  This year you will be inspired by Dawn Ayers\, M.D. as she shares her personal journey from the beaches of California to her successful medical practice specializing in Endocrinology. She has a passion for helping and educating individuals on diabetes\, thyroid issues and weight management. Her immense knowledge will open your eyes and inspire a healthier lifestyle.\n\n\n\nCome early and shop our booths to get your mother's day and graduation gifts before and after the luncheon.  Shopping and registration begins at 10:30 and the luncheon begins at noon.  Thank you to our luncheon sponsor\, CarDon & Associates\, Inc.\n\n\n\nRegister online at www.riverview.org and click the About tab\, then select Riverview Hospital Foundation on the sidebar and lastly click on Events.  You can also contact Trish Oman at 317-776-7317 or toman@riverview.org for more information.
X-ALT-DESC;FMTTYPE=text/html:The Riverview Hospital Foundation invites you to join us for the 9th Annual Women of Vision Luncheon.&nbsp\;<br />\n<br />\nThe luncheon builds camaraderie among talented and interesting women\, creates awareness of Riverview Hospital Foundation and our Women of Vision Giving Club. It also raises funds for women&#39\;s services\, programs\, equipment for Riverview Hospital.&nbsp\; This year you will be inspired by Dawn Ayers\, M.D. as she shares her personal journey from the beaches of California to her successful medical practice specializing in Endocrinology. She has a passion for helping and educating individuals on diabetes\, thyroid issues and weight management. Her immense knowledge will open your eyes and inspire a healthier lifestyle.<br />\n<br />\nCome early and shop our booths to get your mother&rsquo\;s day and graduation gifts before and after the luncheon.&nbsp\; Shopping and registration begins at 10:30 and the luncheon begins at noon.&nbsp\; Thank you to our luncheon sponsor\, CarDon &amp\; Associates\, Inc.<br />\n<br />\nRegister online at www.riverview.org and click the About tab\, then select Riverview Hospital Foundation on the sidebar and lastly click on Events.&nbsp\; You can also contact Trish Oman at 317-776-7317 or toman@riverview.org for more information.
LOCATION:Renaissance Hotel North
UID:e.1538.423
SEQUENCE:3
DTSTAMP:20260420T070955Z
URL:https://business.noblesvillechamber.com/events/details/women-of-vision-luncheon-423
END:VEVENT

END:VCALENDAR
