BEGIN:VCALENDAR
VERSION:2.0
PRODID:-//ChamberMaster//Event Calendar 2.0//EN
METHOD:PUBLISH
X-PUBLISHED-TTL:P3D
REFRESH-INTERVAL:P3D
CALSCALE:GREGORIAN
BEGIN:VEVENT
DTSTART:20120426T213000Z
DTEND:20120426T233000Z
X-MICROSOFT-CDO-ALLDAYEVENT:FALSE
SUMMARY:YPG April Event
DESCRIPTION:YPG LOOKING FOR VOLUNTEERS!\n\nCommunity Service\nThe April YPG event is a community service effort preparing meals for members at the Boys and Girls Club.  Volunteers will need to arrive at the Boys and Girls Club by 5:30 p.m. and expect to work approximately two (2) hours.\n \nFor more information about this event\, contact Mary Noble at the Chamber office by calling (317) 773-0086 or e-mail:  mary@noblesvillechamber.com.
X-ALT-DESC;FMTTYPE=text/html:<STRONG>\n<H1>YPG LOOKING FOR VOLUNTEERS!<FONT style="FONT-SIZE: 8px"></FONT><BR></STRONG>\n<H2>Community Service</H2></H1>\n<H4 style="TEXT-ALIGN: left\; MARGIN-TOP: 0px\; MARGIN-BOTTOM: 0px" align=left _mce_style="text-align: left\; margin-top: 0px\; margin-bottom: 0px\;">The April YPG event is a community service effort preparing meals for members at the Boys and Girls Club.&nbsp\; Volunteers will need to arrive at the Boys and Girls Club by 5:30 p.m. and expect to work approximately two (2) hours.</H4>\n<P style="TEXT-ALIGN: left\; MARGIN-TOP: 0px\; MARGIN-BOTTOM: 0px" align=left _mce_style="text-align: left\; margin-top: 0px\; margin-bottom: 0px\;">&nbsp\;</P>\n<H4 style="TEXT-ALIGN: left\; MARGIN-TOP: 0px\; MARGIN-BOTTOM: 0px" align=left _mce_style="text-align: left\; margin-top: 0px\; margin-bottom: 0px\;">For more information about this event\, contact Mary Noble at the Chamber office by calling (317) 773-0086 or e-mail:&nbsp\; <A href="mailto:mary@noblesvillechamber.com" shape=rect _mce_shape="rect" _mce_href="mailto:mary@noblesvillechamber.com">mary@noblesvillechamber.com</A>.</H4>
LOCATION:
UID:e.1538.268
SEQUENCE:3
DTSTAMP:20260421T012147Z
URL:https://business.noblesvillechamber.com/events/details/ypg-april-event-04-26-2012-268
END:VEVENT

END:VCALENDAR
