BEGIN:VCALENDAR
VERSION:2.0
PRODID:-//ChamberMaster//Event Calendar 2.0//EN
METHOD:PUBLISH
X-PUBLISHED-TTL:P3D
REFRESH-INTERVAL:P3D
CALSCALE:GREGORIAN
BEGIN:VEVENT
DTSTART:20120815T153000Z
DTEND:20120815T170000Z
X-MICROSOFT-CDO-ALLDAYEVENT:FALSE
SUMMARY:YPG Lunch at Janus Developmental Services
DESCRIPTION:You Are Invited To Lunch\n\n	Janus Developmental Services\, Inc.\n\n	cordially invites\n\n	all members of the Chamber's YPG\n\n	to join them for lunch\n\n	 \n\n	Wednesday\, August 15th\n\n	from 11:30 am to 1:00 pm\n\n	Lunch will include a tour of the facility and a brief program about the number of benefits their organization provides to and for Hamilton County. \n\n	In an effort to reach the number of young professionals in the Noblesville area\, Janus would like to take this opportunity to showcase what they have to offer to the community by introducing themselves to a new generation of Noblesville professionals.\n\n	"Most people don't even know we are here.  They don't realize the number of services we provide for Hamilton County\," says Debbie Laird\, spokesperson for Janus.\n\n	Your RSVP is required.  Registration deadline is Monday\, August 13.
X-ALT-DESC;FMTTYPE=text/html:<h1 style="text-align: center">\n	<strong>You Are Invited To Lunch</strong></h1>\n<p style="text-align: center">\n	<span style="font-family: comic sans ms">Janus Developmental Services\, Inc.<br />\n	cordially invites<br />\n	all members of the Chamber&#39\;s YPG</span><br />\n	<span style="font-family: comic sans ms">to join them for lunch<br />\n	<span style="font-size: 8px">&nbsp\;</span><br />\n	Wednesday\, August 15th<br />\n	from 11:30 am to 1:00 pm</span></p>\n<p style="text-align: center">\n	<span style="font-family: comic sans ms">Lunch will include a tour of the facility and a brief program about the number of benefits&nbsp\;their organization provides to and for Hamilton County.&nbsp\;</span></p>\n<p>\n	<span style="font-family: arial">In an effort to reach the number of young professionals in the Noblesville area\, Janus would like to take this opportunity to showcase what they have to offer to the community by introducing themselves to a new generation of Noblesville professionals.</span></p>\n<p>\n	<span style="font-family: arial">&quot\;Most people don&#39\;t even know we are here.&nbsp\; They don&#39\;t realize the number of services we provide for Hamilton County\,&quot\; says Debbie Laird\, spokesperson for Janus.</span></p>\n<p style="text-align: center">\n	<span style="font-family: arial"><span style="color: #ff0000"><strong>Your RSVP is required.&nbsp\; Registration deadline is Monday\, August 13.</strong></span></span></p>\n
LOCATION:Janus Developmental Services\, Inc. 1555 Westfield Road Noblesville\, IN 46062
UID:e.1538.321
SEQUENCE:3
DTSTAMP:20260420T190014Z
URL:https://business.noblesvillechamber.com/events/details/ypg-lunch-at-janus-developmental-services-321
END:VEVENT

END:VCALENDAR
